BEGIN:VCALENDAR
VERSION:2.0
PRODID:-//DP Pro Event Calendar//3.2.6//EN
BEGIN:VEVENT
UID:618aa9eb-e6b1-46f4-bdab-3929ad3f6740
DTSTART;TZID=Europe/Berlin:20270520T163000
DTEND;TZID=Europe/Berlin:20270520T180000
DTSTAMP:20190124T220221Z
SUMMARY:Training F1-Junioren
DESCRIPTION:Training der F-Junioren auf dem Hauptplatz des SSV 1862
LOCATION:Drebkauer Straße 13\, 03130 Spremberg
URL:
ATTACH;FMTTYPE=image/jpeg:https://i0.wp.com/www.ssv1862.de/wp-content/uploads/2018/06/IMG_2537-scaled.jpg?fit=660%2C371&ssl=1
END:VEVENT
END:VCALENDAR