BEGIN:VCALENDAR
VERSION:2.0
PRODID:-//DP Pro Event Calendar//3.2.6//EN
BEGIN:VEVENT
UID:4623a3df-daa4-4c10-b210-0e86a7299ef7
DTSTART;TZID=Europe/Berlin:20270504T163000
DTEND;TZID=Europe/Berlin:20270504T180000
DTSTAMP:20190124T220221Z
SUMMARY:Training F1-Junioren
DESCRIPTION:Training der F-Junioren auf dem Hauptplatz des SSV 1862
LOCATION:Drebkauer Straße 13\, 03130 Spremberg
URL:
ATTACH;FMTTYPE=image/jpeg:https://i0.wp.com/www.ssv1862.de/wp-content/uploads/2018/06/IMG_2537-scaled.jpg?fit=660%2C371&ssl=1
END:VEVENT
END:VCALENDAR