BEGIN:VCALENDAR
VERSION:2.0
PRODID:-//DP Pro Event Calendar//3.2.6//EN
BEGIN:VEVENT
UID:b92e1e0e-154c-4e7a-804d-663ee4c643ad
DTSTART;TZID=Europe/Berlin:20270422T184500
DTEND;TZID=Europe/Berlin:20270422T201500
DTSTAMP:20190124T215905Z
SUMMARY:Training 2. Männer
DESCRIPTION:Training der Männermannschaften im alten Stadion des SSV 1862
LOCATION:Drebkauer Straße 13\, 03130 Spremberg
URL:
ATTACH;FMTTYPE=image/jpeg:https://i0.wp.com/www.ssv1862.de/wp-content/uploads/2018/06/IMG_2537-scaled.jpg?fit=660%2C371&ssl=1
END:VEVENT
END:VCALENDAR