BEGIN:VCALENDAR
VERSION:2.0
PRODID:-//DP Pro Event Calendar//3.2.6//EN
BEGIN:VEVENT
UID:2abb8870-08f3-4d90-a10c-2b4ad7cb1672
DTSTART;TZID=Europe/Berlin:20270325T184500
DTEND;TZID=Europe/Berlin:20270325T201500
DTSTAMP:20190124T220106Z
SUMMARY:Training 1. Männer
DESCRIPTION:Training der Männermannschaften im alten Stadion des SSV 1862
LOCATION:Drebkauer Straße 13\, 03130 Spremberg
URL:
ATTACH;FMTTYPE=image/jpeg:https://i0.wp.com/www.ssv1862.de/wp-content/uploads/2018/06/IMG_2537-scaled.jpg?fit=660%2C371&ssl=1
END:VEVENT
END:VCALENDAR