BEGIN:VCALENDAR
VERSION:2.0
PRODID:-//DP Pro Event Calendar//3.2.6//EN
BEGIN:VEVENT
UID:4cc8252b-9dc6-4166-80ff-8f083a9e1dc4
DTSTART;TZID=Europe/Berlin:20270211T184500
DTEND;TZID=Europe/Berlin:20270211T201500
DTSTAMP:20190124T215905Z
SUMMARY:Training 2. Männer
DESCRIPTION:Training der Männermannschaften im alten Stadion des SSV 1862
LOCATION:Drebkauer Straße 13\, 03130 Spremberg
URL:
ATTACH;FMTTYPE=image/jpeg:https://i0.wp.com/www.ssv1862.de/wp-content/uploads/2018/06/IMG_2537-scaled.jpg?fit=660%2C371&ssl=1
END:VEVENT
END:VCALENDAR