BEGIN:VCALENDAR
VERSION:2.0
PRODID:-//DP Pro Event Calendar//3.2.6//EN
BEGIN:VEVENT
UID:7d3987a4-8253-45de-bdcc-1c9ceab8aafc
DTSTART;TZID=Europe/Berlin:20260127T184500
DTEND;TZID=Europe/Berlin:20260127T201500
DTSTAMP:20190124T220106Z
SUMMARY:Training 1. Männer
DESCRIPTION:Training der Männermannschaften im alten Stadion des SSV 1862
LOCATION:Drebkauer Straße 13\, 03130 Spremberg
URL:
ATTACH;FMTTYPE=image/jpeg:https://i0.wp.com/www.ssv1862.de/wp-content/uploads/2018/06/IMG_2537-scaled.jpg?fit=660%2C371&ssl=1
END:VEVENT
END:VCALENDAR