BEGIN:VCALENDAR
VERSION:2.0
PRODID:-//DP Pro Event Calendar//3.2.6//EN
BEGIN:VEVENT
UID:8ed9597b-005c-4bf5-a0b4-71a88dada881
DTSTART;TZID=Europe/Berlin:20241112T171500
DTEND;TZID=Europe/Berlin:20241112T184500
DTSTAMP:20190124T220210Z
SUMMARY:Training B-Junioren
DESCRIPTION:Training der B-Junioren im alten Stadion des SSV 1862
LOCATION:Drebkauer Straße 13\, 03130 Spremberg
URL:
ATTACH;FMTTYPE=image/jpeg:https://i0.wp.com/www.ssv1862.de/wp-content/uploads/2018/06/IMG_2537-scaled.jpg?fit=660%2C371&ssl=1
END:VEVENT
END:VCALENDAR