BEGIN:VCALENDAR
VERSION:2.0
PRODID:-//DP Pro Event Calendar//3.2.6//EN
BEGIN:VEVENT
UID:4d7b9579-0c5b-4f8b-a3e2-f95b3656517b
DTSTART;TZID=Europe/Berlin:20241008T184500
DTEND;TZID=Europe/Berlin:20241008T201500
DTSTAMP:20190124T215905Z
SUMMARY:Training 2. Männer
DESCRIPTION:Training der Männermannschaften im alten Stadion des SSV 1862
LOCATION:Drebkauer Straße 13\, 03130 Spremberg
URL:
ATTACH;FMTTYPE=image/jpeg:https://i0.wp.com/www.ssv1862.de/wp-content/uploads/2018/06/IMG_2537-scaled.jpg?fit=660%2C371&ssl=1
END:VEVENT
END:VCALENDAR