BEGIN:VCALENDAR
VERSION:2.0
PRODID:-//DP Pro Event Calendar//3.2.6//EN
BEGIN:VEVENT
UID:e54eded7-95f8-4f87-911f-7a9e2e438723
DTSTART;TZID=Europe/Berlin:20240910T163000
DTEND;TZID=Europe/Berlin:20240910T180000
DTSTAMP:20190124T220524Z
SUMMARY:Training F2-Junioren
DESCRIPTION:Training der F-Junioren auf dem Hauptplatz des SSV1862
LOCATION:Drebkauer Straße 13\, 03130 Spremberg
URL:
ATTACH;FMTTYPE=image/jpeg:https://i0.wp.com/www.ssv1862.de/wp-content/uploads/2018/06/IMG_2537-scaled.jpg?fit=660%2C371&ssl=1
END:VEVENT
END:VCALENDAR