BEGIN:VCALENDAR
VERSION:2.0
PRODID:-//DP Pro Event Calendar//3.2.6//EN
BEGIN:VEVENT
UID:5f229649-43b9-4757-b57a-02c32fef8c84
DTSTART;TZID=Europe/Berlin:20240416T163000
DTEND;TZID=Europe/Berlin:20240416T180000
DTSTAMP:20190124T220524Z
SUMMARY:Training F2-Junioren
DESCRIPTION:Training der F-Junioren auf dem Hauptplatz des SSV1862
LOCATION:Drebkauer Straße 13\, 03130 Spremberg
URL:
ATTACH;FMTTYPE=image/jpeg:https://i0.wp.com/www.ssv1862.de/wp-content/uploads/2018/06/IMG_2537-scaled.jpg?fit=660%2C371&ssl=1
END:VEVENT
END:VCALENDAR