BEGIN:VCALENDAR
VERSION:2.0
PRODID:-//DP Pro Event Calendar//3.2.6//EN
BEGIN:VEVENT
UID:96b8cfd7-3b47-4c24-bf8e-68182cb3b13c
DTSTART;TZID=Europe/Berlin:20221024T170000
DTEND;TZID=Europe/Berlin:20221024T183000
DTSTAMP:20190124T220210Z
SUMMARY:Training C-Junioren
DESCRIPTION:Training der C-Junioren im alten Stadion des SSV 1862
LOCATION:Drebkauer Straße 13\, 03130 Spremberg
URL:
ATTACH;FMTTYPE=image/jpeg:https://i0.wp.com/www.ssv1862.de/wp-content/uploads/2018/06/IMG_2537-scaled.jpg?fit=660%2C371&ssl=1
END:VEVENT
END:VCALENDAR