BEGIN:VCALENDAR
VERSION:2.0
PRODID:-//DP Pro Event Calendar//3.2.6//EN
BEGIN:VEVENT
UID:eea7c688-3069-4fb1-b20f-f402b880371c
DTSTART;TZID=Europe/Berlin:20190611T183000
DTEND;TZID=Europe/Berlin:20190611T200000
DTSTAMP:20190124T220202Z
SUMMARY:Training Altherren
DESCRIPTION:Training der Männermannschaften im alten Stadion des SSV 1862
LOCATION:Drebkauer Straße 13\, 03130 Spremberg
URL:
ATTACH;FMTTYPE=image/jpeg:https://i0.wp.com/www.ssv1862.de/wp-content/uploads/2018/06/IMG_2537-scaled.jpg?fit=660%2C371&ssl=1
END:VEVENT
END:VCALENDAR